BEGIN:VCALENDAR
VERSION:2.0
PRODID:-// - ECPv6.15.17//NONSGML v1.0//EN
CALSCALE:GREGORIAN
METHOD:PUBLISH
X-ORIGINAL-URL:https://fallsoftheohio2.mediauradev.com
X-WR-CALDESC:Events for 
REFRESH-INTERVAL;VALUE=DURATION:PT1H
X-Robots-Tag:noindex
X-PUBLISHED-TTL:PT1H
BEGIN:VTIMEZONE
TZID:UTC
BEGIN:STANDARD
TZOFFSETFROM:+0000
TZOFFSETTO:+0000
TZNAME:UTC
DTSTART:20230101T000000
END:STANDARD
END:VTIMEZONE
BEGIN:VEVENT
DTSTART;TZID=UTC:20250101T080000
DTEND;TZID=UTC:20250101T170000
DTSTAMP:20260421T143614
CREATED:20241122T150427Z
LAST-MODIFIED:20241217T065447Z
UID:8802-1735718400-1735750800@fallsoftheohio2.mediauradev.com
SUMMARY:Event 2
DESCRIPTION:Rediscover the Falls of the Ohio as Suzanne Santo and two-time GRAMMY nominee Cedric Burnside play a one-of-a-kind concert on the 390 million year old fossil beds at the Falls of the Ohio State Park. \n\n\n\nA place steeped in history\, the Falls of the Ohio’s unique beauty will highlight the amazing styles and sounds of these incredible artists. Join the Falls of the Ohio Foundation on Saturday\, September 25! \n\n\n\nVIP Tickets available $200/person \n\n\n\nGeneral Admission Tickets $40/ person \n\n\n\nPeople with General Admission tickets are encouraged to bring a chair or blanket and pick out your favorite spot on the 390-million-year-old fossil beds to enjoy this one-of-a-kind concert experience. Food and drinks can be purchased separately at the event. All VIP tickets include a reserved seat at table on the deck of the Interpretive Center and all food and drinks are provided.
URL:https://fallsoftheohio2.mediauradev.com/our-events/event-2/
LOCATION:location test venue\, 325\, Test\, 1234567890\, Argentina
CATEGORIES:Foundation,State Park
ATTACH;FMTTYPE=image/jpeg:https://fallsoftheohio2.mediauradev.com/wp-content/uploads/2024/11/Locust-Grove-Louisville-Tourism.jpg
END:VEVENT
BEGIN:VEVENT
DTSTART;TZID=UTC:20241219T080000
DTEND;TZID=UTC:20241219T170000
DTSTAMP:20260421T143614
CREATED:20241217T065335Z
LAST-MODIFIED:20241217T065512Z
UID:9075-1734595200-1734627600@fallsoftheohio2.mediauradev.com
SUMMARY:test-17
DESCRIPTION:hello
URL:https://fallsoftheohio2.mediauradev.com/our-events/test-17/
CATEGORIES:Foundation,State Park
ATTACH;FMTTYPE=image/png:https://fallsoftheohio2.mediauradev.com/wp-content/uploads/2024/12/Untitled-5-x-7-in-1024x731-4.png
END:VEVENT
BEGIN:VEVENT
DTSTART;TZID=UTC:20241207T130000
DTEND;TZID=UTC:20241207T140000
DTSTAMP:20260421T143614
CREATED:20241125T160257Z
LAST-MODIFIED:20241211T122850Z
UID:8997-1733576400-1733580000@fallsoftheohio2.mediauradev.com
SUMMARY:Junior Paleontologist Program
DESCRIPTION:We’re developing a Junior Paleontologist program\, similar to what some national parks offer but focusing on our area. This family program is geared for the same age as our Lewis & Clark Junior Ranger program – ages 6 – 13. We will be beta testing most of the activities in a booklet under development. Join Park paleontologist Alan Goldstein as we have some fun learning about fossils. Free. Meets in the rotunda.
URL:https://fallsoftheohio2.mediauradev.com/our-events/junior-paleontologist-program/
CATEGORIES:State Park
ATTACH;FMTTYPE=image/jpeg:https://fallsoftheohio2.mediauradev.com/wp-content/uploads/2024/11/Make-a-Party-Hat-300x225-1.jpg
END:VEVENT
BEGIN:VEVENT
DTSTART;TZID=UTC:20241130T130000
DTEND;TZID=UTC:20241130T140000
DTSTAMP:20260421T143614
CREATED:20241125T155947Z
LAST-MODIFIED:20241125T155950Z
UID:8991-1732971600-1732975200@fallsoftheohio2.mediauradev.com
SUMMARY:What has branches but isn't a tree?
DESCRIPTION:Branching is common is nature. Trees may be the most familiar\, but they weren’t the first – by a long shot. We will look at marine fossils that branch – corals\, bryozoans\, and others – and discuss why branches form. What else branches in nature that isn’t alive? Come find out. Park naturalist and paleontologist Alan Goldstein will present this free program in the rotunda.
URL:https://fallsoftheohio2.mediauradev.com/our-events/what-has-branches-but-isnt-a-tree/
CATEGORIES:State Park
ATTACH;FMTTYPE=image/jpeg:https://fallsoftheohio2.mediauradev.com/wp-content/uploads/2024/11/30006184551_4bcf730b03_o-300x201-1.jpg
END:VEVENT
END:VCALENDAR